BEGIN:VCALENDAR
VERSION:2.0
CALSCALE:GREGORIAN
METHOD:PUBLISH
X-WR-TIMEZONE:Australia/Sydney
BEGIN:VTIMEZONE
TZID:Australia/Sydney
BEGIN:STANDARD
TZNAME:AEST
END:STANDARD
END:VTIMEZONE
BEGIN:VEVENT
DTSTART;TZID=Australia/Sydney:20240628T023000
DTEND;TZID=Australia/Sydney:20240628T031500
RRULE:FREQ=WEEKLY;UNTIL=20240628T031500;BYDAY=FR
DTSTAMP:20260425T015053
UID:92
SUMMARY:Junior Campus Assembly
DESCRIPTION:




This weekly event is held in the BER building at the Junior Campus from 2.30pm. Our Star Learners will be announced. Parents are encouraged to tune in via Webex - the link is on Compass.


SEQUENCE:0
STATUS:CONFIRMED
TRANSP:OPAQUE
END:VEVENT
END:VCALENDAR